BEGIN:VCALENDAR
VERSION:2.0
PRODID:-//Sabre//Sabre VObject 4.5.8//EN
CALSCALE:GREGORIAN
BEGIN:VEVENT
UID:criticalmass-one-tisbury-1769868000
DTSTAMP:20260424T033601Z
SUMMARY:Alex Pretti Memorial Ride — Brickyard Bicycles
DESCRIPTION:Meet at the Five Corners at 2 p.m. for a 2:30 p.m. roll-out. 
DTSTART;TZID=America/New_York:20260131T090000
DTEND;TZID=America/New_York:20260131T110000
LOCATION:Five Corners\, Tisbury
GEO:41.453864;-70.601150
URL;VALUE=URI:https://criticalmass.in/tisbury/alex-pretti-memorial-ride-tis
 bury-2026-01-31
END:VEVENT
END:VCALENDAR
