BEGIN:VCALENDAR
VERSION:2.0
PRODID:-//Sabre//Sabre VObject 4.5.8//EN
CALSCALE:GREGORIAN
BEGIN:VEVENT
UID:criticalmass-one-stuttgart-1762536600
DTSTAMP:20260421T143452Z
SUMMARY:Critical Mass Stuttgart 07.11.2025
DTSTART;TZID=Europe/Berlin:20251107T183000
DTEND;TZID=Europe/Berlin:20251107T203000
LOCATION:rund um den Feuersee
GEO:48.772978;9.163585
URL;VALUE=URI:https://criticalmass.in/stuttgart/2025-11-07
END:VEVENT
END:VCALENDAR
