BEGIN:VCALENDAR
VERSION:2.0
PRODID:-//Sabre//Sabre VObject 4.5.8//EN
CALSCALE:GREGORIAN
BEGIN:VEVENT
UID:criticalmass-one-stuttgart-1720801800
DTSTAMP:20260421T143451Z
SUMMARY:Critical Mass Stuttgart 12.(!)07.2024
DESCRIPTION:ACHTUNG: VERSCHOBEN wegen dieser unsäglichen Fussball-EM!
DTSTART;TZID=Europe/Berlin:20240712T183000
DTEND;TZID=Europe/Berlin:20240712T203000
LOCATION:rund um den Feuersee
GEO:48.772978;9.163585
URL;VALUE=URI:https://criticalmass.in/stuttgart/2024-07-12
END:VEVENT
END:VCALENDAR
