BEGIN:VCALENDAR
VERSION:2.0
PRODID:-//Sabre//Sabre VObject 4.5.8//EN
CALSCALE:GREGORIAN
BEGIN:VEVENT
UID:criticalmass-one-stuttgart-1663506000
DTSTAMP:20260421T162340Z
SUMMARY:Kidical Mass Stuttgart-Vaihingen September 2022
DTSTART;TZID=Europe/Berlin:20220918T150000
DTEND;TZID=Europe/Berlin:20220918T170000
LOCATION:Bezirksrathaus
URL;VALUE=URI:https://criticalmass.in/stuttgart/2022-09-18
END:VEVENT
END:VCALENDAR
