BEGIN:VCALENDAR
VERSION:2.0
PRODID:-//Sabre//Sabre VObject 4.5.8//EN
CALSCALE:GREGORIAN
BEGIN:VEVENT
UID:criticalmass-one-stuttgart-1656248400
DTSTAMP:20260422T050419Z
SUMMARY:Kidical Mass Stuttgart 26.06.2022
DTSTART;TZID=Europe/Berlin:20220626T150000
DTEND;TZID=Europe/Berlin:20220626T170000
LOCATION:Johanneskirche im Feuersee
GEO:48.773564;9.164373
URL;VALUE=URI:https://criticalmass.in/stuttgart/2022-06-26
END:VEVENT
END:VCALENDAR
