BEGIN:VCALENDAR
VERSION:2.0
PRODID:-//Sabre//Sabre VObject 4.5.8//EN
CALSCALE:GREGORIAN
BEGIN:VEVENT
UID:criticalmass-one-stuttgart-1633870800
DTSTAMP:20260421T100238Z
SUMMARY:Kidical Mass Stuttgart
DTSTART;TZID=Europe/Berlin:20211010T150000
DTEND;TZID=Europe/Berlin:20211010T170000
LOCATION:Johanneskirche am Feuersee
GEO:48.773575;9.164384
URL;VALUE=URI:https://criticalmass.in/stuttgart/2021-10-10
END:VEVENT
END:VCALENDAR
