BEGIN:VCALENDAR
VERSION:2.0
PRODID:-//Sabre//Sabre VObject 4.5.8//EN
CALSCALE:GREGORIAN
BEGIN:VEVENT
UID:criticalmass-one-stuttgart-1626613200
DTSTAMP:20260421T143354Z
SUMMARY:Kidical Mass Stuttgart-Botnang
DTSTART;TZID=Europe/Berlin:20210718T150000
DTEND;TZID=Europe/Berlin:20210718T170000
LOCATION:Franz-Schubert-Schule
GEO:48.778846;9.128872
URL;VALUE=URI:https://criticalmass.in/stuttgart/2021-07-18
END:VEVENT
END:VCALENDAR
