BEGIN:VCALENDAR
VERSION:2.0
PRODID:-//Sabre//Sabre VObject 4.5.8//EN
CALSCALE:GREGORIAN
BEGIN:VEVENT
UID:criticalmass-one-stuttgart-1607099400
DTSTAMP:20260421T100039Z
SUMMARY:Critical Mass Stuttgart 04.12.2020
DTSTART;TZID=Europe/Berlin:20201204T173000
DTEND;TZID=Europe/Berlin:20201204T193000
LOCATION:Südseite des Feuersees
GEO:48.772403;9.165276
URL;VALUE=URI:https://criticalmass.in/stuttgart/2020-12-04
END:VEVENT
END:VCALENDAR
