BEGIN:VCALENDAR
VERSION:2.0
PRODID:-//Sabre//Sabre VObject 4.5.8//EN
CALSCALE:GREGORIAN
BEGIN:VEVENT
UID:criticalmass-one-stuttgart-1596213000
DTSTAMP:20260419T151435Z
SUMMARY:Fest im Sattel
DTSTART;TZID=Europe/Berlin:20200731T183000
DTEND;TZID=Europe/Berlin:20200731T203000
LOCATION:Karlsplatz\, Stuttgart
GEO:48.776591;9.180923
URL;VALUE=URI:https://criticalmass.in/stuttgart/2020-07-31
END:VEVENT
END:VCALENDAR
