BEGIN:VCALENDAR
VERSION:2.0
PRODID:-//Sabre//Sabre VObject 4.5.8//EN
CALSCALE:GREGORIAN
BEGIN:VEVENT
UID:criticalmass-one-stuttgart-1592744400
DTSTAMP:20260421T125123Z
SUMMARY:Kidical Mass Stuttgart
DTSTART;TZID=Europe/Berlin:20200621T150000
DTEND;TZID=Europe/Berlin:20200621T170000
LOCATION:Johanneskirche\, Stuttgart
GEO:48.773557;9.164363
URL;VALUE=URI:https://criticalmass.in/stuttgart/2020-06-21
END:VEVENT
END:VCALENDAR
