BEGIN:VCALENDAR
VERSION:2.0
PRODID:-//Sabre//Sabre VObject 4.5.8//EN
CALSCALE:GREGORIAN
BEGIN:VEVENT
UID:criticalmass-one-stuttgart-1578072600
DTSTAMP:20260422T114832Z
SUMMARY:Critical Mass Stuttgart 03.01.2020
DTSTART;TZID=Europe/Berlin:20200103T183000
DTEND;TZID=Europe/Berlin:20200103T203000
LOCATION:Südseite des Feuersees
GEO:48.772403;9.165276
URL;VALUE=URI:https://criticalmass.in/stuttgart/2020-01-03
END:VEVENT
END:VCALENDAR
