BEGIN:VCALENDAR
VERSION:2.0
PRODID:-//Sabre//Sabre VObject 4.5.8//EN
CALSCALE:GREGORIAN
BEGIN:VEVENT
UID:criticalmass-one-stuttgart-1546623000
DTSTAMP:20260422T213046Z
SUMMARY:Critical Mass Stuttgart 04.01.2019
DTSTART;TZID=Europe/Berlin:20190104T183000
DTEND;TZID=Europe/Berlin:20190104T203000
LOCATION:Südseite des Feuersees
GEO:48.772539;9.163939
URL;VALUE=URI:https://criticalmass.in/stuttgart/2019-01-04
END:VEVENT
END:VCALENDAR
