BEGIN:VCALENDAR
VERSION:2.0
PRODID:-//Sabre//Sabre VObject 4.5.8//EN
CALSCALE:GREGORIAN
BEGIN:VEVENT
UID:criticalmass-one-stuttgart-1539432000
DTSTAMP:20260424T220054Z
SUMMARY:2. Kidical Mass
DTSTART;TZID=Europe/Berlin:20181013T140000
DTEND;TZID=Europe/Berlin:20181013T160000
LOCATION:Feuersee
URL;VALUE=URI:https://criticalmass.in/stuttgart/2018-10-13
END:VEVENT
END:VCALENDAR
