BEGIN:VCALENDAR
VERSION:2.0
PRODID:-//Sabre//Sabre VObject 4.5.8//EN
CALSCALE:GREGORIAN
BEGIN:VEVENT
UID:criticalmass-one-stuttgart-1536337800
DTSTAMP:20260421T141002Z
SUMMARY:Critical Mass Stuttgart 07.09.2018
DTSTART;TZID=Europe/Berlin:20180907T183000
DTEND;TZID=Europe/Berlin:20180907T203000
LOCATION:Südseite des Feuersees
GEO:48.772403;9.165276
URL;VALUE=URI:https://criticalmass.in/stuttgart/2018-09-07
END:VEVENT
END:VCALENDAR
