BEGIN:VCALENDAR
VERSION:2.0
PRODID:-//Sabre//Sabre VObject 4.5.8//EN
CALSCALE:GREGORIAN
BEGIN:VEVENT
UID:criticalmass-one-stuttgart-1428078600
DTSTAMP:20260423T015148Z
SUMMARY:Critical Mass Stuttgart 03.04.2015
DTSTART;TZID=Europe/Berlin:20150403T183000
DTEND;TZID=Europe/Berlin:20150403T203000
LOCATION:Südseite des Feuersees
GEO:48.772403;9.165276
URL;VALUE=URI:https://criticalmass.in/stuttgart/2015-04-03
END:VEVENT
END:VCALENDAR
