BEGIN:VCALENDAR
VERSION:2.0
PRODID:-//Sabre//Sabre VObject 4.5.8//EN
CALSCALE:GREGORIAN
BEGIN:VEVENT
UID:criticalmass-one-stuttgart-1417800600
DTSTAMP:20260421T112040Z
SUMMARY:Critical Mass Stuttgart 05.12.2014
DTSTART;TZID=Europe/Berlin:20141205T183000
DTEND;TZID=Europe/Berlin:20141205T203000
LOCATION:Feuersee
GEO:48.772511;9.163971
URL;VALUE=URI:https://criticalmass.in/stuttgart/2014-12-05
END:VEVENT
END:VCALENDAR
