BEGIN:VCALENDAR
VERSION:2.0
PRODID:-//Sabre//Sabre VObject 4.5.8//EN
CALSCALE:GREGORIAN
BEGIN:VEVENT
UID:criticalmass-one-stockholm-1708707600
DTSTAMP:20260426T021210Z
SUMMARY:Critical Mass Stockholm 23.02.2024 - Mot glömska och för mänskli
 ghet
DESCRIPTION:Låt oss denna gång vara på väg för mänskligheten och mot 
 glömskan! Antisemitism\, rasism och uteslutning av alla slag får inte ha
  någon plats hos oss!
DTSTART;TZID=Europe/Stockholm:20240223T180000
DTEND;TZID=Europe/Stockholm:20240223T200000
LOCATION:Medborgarplatsen
GEO:59.315017;18.072059
URL;VALUE=URI:https://criticalmass.in/stockholm/2024-02-23
END:VEVENT
END:VCALENDAR
