BEGIN:VCALENDAR
VERSION:2.0
PRODID:-//Sabre//Sabre VObject 4.5.8//EN
CALSCALE:GREGORIAN
BEGIN:VEVENT
UID:criticalmass-one-stockholm-1692979200
DTSTAMP:20260425T231941Z
SUMMARY:Critical Mass Stockholm 25.08.2023
DTSTART;TZID=Europe/Stockholm:20230825T180000
DTEND;TZID=Europe/Stockholm:20230825T200000
LOCATION:Medborgarplatsen
GEO:59.315017;18.072059
URL;VALUE=URI:https://criticalmass.in/stockholm/2023-08-25
END:VEVENT
END:VCALENDAR
