BEGIN:VCALENDAR
VERSION:2.0
PRODID:-//Sabre//Sabre VObject 4.5.8//EN
CALSCALE:GREGORIAN
BEGIN:VEVENT
UID:criticalmass-one-stockholm-1690560000
DTSTAMP:20260425T231940Z
SUMMARY:Critical Mass Stockholm 28.07.2023
DTSTART;TZID=Europe/Stockholm:20230728T180000
DTEND;TZID=Europe/Stockholm:20230728T200000
LOCATION:Medborgarplatsen
GEO:59.315017;18.072059
URL;VALUE=URI:https://criticalmass.in/stockholm/2023-07-28
END:VEVENT
END:VCALENDAR
