BEGIN:VCALENDAR
VERSION:2.0
PRODID:-//Sabre//Sabre VObject 4.5.8//EN
CALSCALE:GREGORIAN
BEGIN:VEVENT
UID:criticalmass-one-stockholm-1680278400
DTSTAMP:20260426T032919Z
SUMMARY:Critical Mass Stockholm 31.03.2023
DTSTART;TZID=Europe/Stockholm:20230331T180000
DTEND;TZID=Europe/Stockholm:20230331T200000
LOCATION:Medborgarplatsen
GEO:59.315017;18.072059
URL;VALUE=URI:https://criticalmass.in/stockholm/2023-03-31
END:VEVENT
END:VCALENDAR
