BEGIN:VCALENDAR
VERSION:2.0
PRODID:-//Sabre//Sabre VObject 4.5.8//EN
CALSCALE:GREGORIAN
BEGIN:VEVENT
UID:criticalmass-one-stockholm-1627660800
DTSTAMP:20260425T164732Z
SUMMARY:Critical Mass Stockholm 30.07.2021
DTSTART;TZID=Europe/Stockholm:20210730T180000
DTEND;TZID=Europe/Stockholm:20210730T200000
LOCATION:Medborgarplatsen
GEO:59.315017;18.072059
URL;VALUE=URI:https://criticalmass.in/stockholm/2021-07-30
END:VEVENT
END:VCALENDAR
