BEGIN:VCALENDAR
VERSION:2.0
PRODID:-//Sabre//Sabre VObject 4.5.8//EN
CALSCALE:GREGORIAN
BEGIN:VEVENT
UID:criticalmass-one-stockholm-1593187200
DTSTAMP:20260425T223116Z
SUMMARY:Critical Mass Stockholm 26.06.2020
DTSTART;TZID=Europe/Stockholm:20200626T180000
DTEND;TZID=Europe/Stockholm:20200626T200000
LOCATION:Medborgarplatsen
GEO:59.315017;18.072059
URL;VALUE=URI:https://criticalmass.in/stockholm/2020-06-26
END:VEVENT
END:VCALENDAR
