BEGIN:VCALENDAR
VERSION:2.0
PRODID:-//Sabre//Sabre VObject 4.5.8//EN
CALSCALE:GREGORIAN
BEGIN:VEVENT
UID:criticalmass-one-stockholm-1587744000
DTSTAMP:20260425T231845Z
SUMMARY:Critical Mass Stockholm 24.04.2020
DTSTART;TZID=Europe/Stockholm:20200424T180000
DTEND;TZID=Europe/Stockholm:20200424T200000
LOCATION:Medborgarplatsen
GEO:59.315017;18.072059
URL;VALUE=URI:https://criticalmass.in/stockholm/2020-04-24
END:VEVENT
END:VCALENDAR
