BEGIN:VCALENDAR
VERSION:2.0
PRODID:-//Sabre//Sabre VObject 4.5.8//EN
CALSCALE:GREGORIAN
BEGIN:VEVENT
UID:criticalmass-one-stockholm-1538150400
DTSTAMP:20260425T231919Z
SUMMARY:Critical Mass Stockholm 28.09.2018
DTSTART;TZID=Europe/Stockholm:20180928T180000
DTEND;TZID=Europe/Stockholm:20180928T200000
LOCATION:Medborgarplatsen
GEO:59.315017;18.072059
URL;VALUE=URI:https://criticalmass.in/stockholm/2018-09-28
END:VEVENT
END:VCALENDAR
