BEGIN:VCALENDAR
VERSION:2.0
PRODID:-//Sabre//Sabre VObject 4.5.8//EN
CALSCALE:GREGORIAN
BEGIN:VEVENT
UID:criticalmass-one-stockholm-1527264000
DTSTAMP:20260425T164649Z
SUMMARY:Critical Mass Stockholm 25.05.2018
DTSTART;TZID=Europe/Stockholm:20180525T180000
DTEND;TZID=Europe/Stockholm:20180525T200000
LOCATION:Medborgarplatsen
GEO:59.315017;18.072059
URL;VALUE=URI:https://criticalmass.in/stockholm/2018-05-25
END:VEVENT
END:VCALENDAR
