BEGIN:VCALENDAR
VERSION:2.0
PRODID:-//Sabre//Sabre VObject 4.5.8//EN
CALSCALE:GREGORIAN
BEGIN:VEVENT
UID:criticalmass-one-stockholm-1498838400
DTSTAMP:20260425T212916Z
SUMMARY:Critical Mass Stockholm 30.06.2017
DTSTART;TZID=Europe/Stockholm:20170630T180000
DTEND;TZID=Europe/Stockholm:20170630T200000
LOCATION:Medborgarplatsen
GEO:59.315017;18.072059
URL;VALUE=URI:https://criticalmass.in/stockholm/2017-06-30
END:VEVENT
END:VCALENDAR
