BEGIN:VCALENDAR
VERSION:2.0
PRODID:-//Sabre//Sabre VObject 4.5.8//EN
CALSCALE:GREGORIAN
BEGIN:VEVENT
UID:criticalmass-one-stockholm-1495814400
DTSTAMP:20260425T231501Z
SUMMARY:Critical Mass Stockholm 26.05.2017
DTSTART;TZID=Europe/Stockholm:20170526T180000
DTEND;TZID=Europe/Stockholm:20170526T200000
LOCATION:Medborgarplatsen
GEO:59.315017;18.072059
URL;VALUE=URI:https://criticalmass.in/stockholm/2017-05-26
END:VEVENT
END:VCALENDAR
