BEGIN:VCALENDAR
VERSION:2.0
PRODID:-//Sabre//Sabre VObject 4.5.8//EN
CALSCALE:GREGORIAN
BEGIN:VEVENT
UID:criticalmass-one-stockholm-1490976000
DTSTAMP:20260425T213024Z
SUMMARY:Critical Mass Stockholm 31.03.2017
DTSTART;TZID=Europe/Stockholm:20170331T180000
DTEND;TZID=Europe/Stockholm:20170331T200000
LOCATION:Medborgarplatsen
GEO:59.315017;18.072059
URL;VALUE=URI:https://criticalmass.in/stockholm/2017-03-31
END:VEVENT
END:VCALENDAR
