BEGIN:VCALENDAR
VERSION:2.0
PRODID:-//Sabre//Sabre VObject 4.5.8//EN
CALSCALE:GREGORIAN
BEGIN:VEVENT
UID:criticalmass-one-stockholm-1469808000
DTSTAMP:20260425T213023Z
SUMMARY:Critical Mass Stockholm 29.07.2016
DTSTART;TZID=Europe/Stockholm:20160729T180000
DTEND;TZID=Europe/Stockholm:20160729T200000
LOCATION:Medborgarplatsen
GEO:59.315017;18.072059
URL;VALUE=URI:https://criticalmass.in/stockholm/2016-07-29
END:VEVENT
END:VCALENDAR
