BEGIN:VCALENDAR
VERSION:2.0
PRODID:-//Sabre//Sabre VObject 4.5.8//EN
CALSCALE:GREGORIAN
BEGIN:VEVENT
UID:criticalmass-one-stade-1582567200
DTSTAMP:20260421T083719Z
SUMMARY:Critical Mass Stade 24.02.2020
DTSTART;TZID=Europe/Berlin:20200224T190000
DTEND;TZID=Europe/Berlin:20200224T210000
LOCATION:Vor dem Bahnhof
GEO:53.596364;9.477510
URL;VALUE=URI:https://criticalmass.in/stade/2020-02-24
END:VEVENT
END:VCALENDAR
