BEGIN:VCALENDAR
VERSION:2.0
PRODID:-//Sabre//Sabre VObject 4.5.8//EN
CALSCALE:GREGORIAN
BEGIN:VEVENT
UID:criticalmass-one-stade-1546261200
DTSTAMP:20260423T232304Z
SUMMARY:Critical Mass Stade 31.12.2018
DESCRIPTION:Ausnahmsweise schon nachmittags um 14:00 Uhr wegen Silvester!
DTSTART;TZID=Europe/Berlin:20181231T140000
DTEND;TZID=Europe/Berlin:20181231T160000
LOCATION:Vor dem Bahnhof
GEO:53.596364;9.477510
URL;VALUE=URI:https://criticalmass.in/stade/2018-12-31
END:VEVENT
END:VCALENDAR
