BEGIN:VCALENDAR
VERSION:2.0
PRODID:-//Sabre//Sabre VObject 4.5.8//EN
CALSCALE:GREGORIAN
BEGIN:VEVENT
UID:criticalmass-one-stade-1535389200
DTSTAMP:20260425T115122Z
SUMMARY:2. Critical Mass Stade
DESCRIPTION:Auch wenn das Wetter heute nicht so prächtig mitspielt — wi
 r treffen uns wieder um 19 Uhr direkt vor dem Bahnhof.
DTSTART;TZID=Europe/Berlin:20180827T190000
DTEND;TZID=Europe/Berlin:20180827T210000
LOCATION:Am Bahnhof
GEO:53.596319;9.477564
URL;VALUE=URI:https://criticalmass.in/stade/2018-08-27
END:VEVENT
END:VCALENDAR
