BEGIN:VCALENDAR
VERSION:2.0
PRODID:-//Sabre//Sabre VObject 4.5.8//EN
CALSCALE:GREGORIAN
BEGIN:VEVENT
UID:criticalmass-one-st-gallen-1694260800
DTSTAMP:20260424T211826Z
SUMMARY:Kidical Mass St. Gallen 09.09.2023
DTSTART;TZID=Europe/Berlin:20230909T140000
DTEND;TZID=Europe/Berlin:20230909T160000
LOCATION:Bärenplatz
GEO:47.424970;9.376290
URL;VALUE=URI:https://criticalmass.in/st-gallen/kidical-mass-st-gallen-sept
 ember-2023
END:VEVENT
END:VCALENDAR
