BEGIN:VCALENDAR
VERSION:2.0
PRODID:-//Sabre//Sabre VObject 4.5.8//EN
CALSCALE:GREGORIAN
BEGIN:VEVENT
UID:criticalmass-one-st-gallen-1774632600
DTSTAMP:20260423T205359Z
SUMMARY:Critical Mass St. Gallen 27.03.2026
DTSTART;TZID=Europe/Berlin:20260327T183000
DTEND;TZID=Europe/Berlin:20260327T203000
LOCATION:Gallusplatz
GEO:47.422455;9.375844
URL;VALUE=URI:https://criticalmass.in/st-gallen/2026-03-27
END:VEVENT
END:VCALENDAR
