BEGIN:VCALENDAR
VERSION:2.0
PRODID:-//Sabre//Sabre VObject 4.5.8//EN
CALSCALE:GREGORIAN
BEGIN:VEVENT
UID:criticalmass-one-st-gallen-1761931800
DTSTAMP:20260421T173426Z
SUMMARY:Critical Mass St. Gallen 31.10.2025
DTSTART;TZID=Europe/Berlin:20251031T183000
DTEND;TZID=Europe/Berlin:20251031T203000
LOCATION:Gallusplatz
GEO:47.422455;9.375844
URL;VALUE=URI:https://criticalmass.in/st-gallen/2025-10-31
END:VEVENT
END:VCALENDAR
