BEGIN:VCALENDAR
VERSION:2.0
PRODID:-//Sabre//Sabre VObject 4.5.8//EN
CALSCALE:GREGORIAN
BEGIN:VEVENT
UID:criticalmass-one-st-gallen-1743183000
DTSTAMP:20260424T105102Z
SUMMARY:Critical Mass St. Gallen 28.03.2025
DTSTART;TZID=Europe/Berlin:20250328T183000
DTEND;TZID=Europe/Berlin:20250328T203000
LOCATION:Gallusplatz
GEO:47.422455;9.375844
URL;VALUE=URI:https://criticalmass.in/st-gallen/2025-03-28
END:VEVENT
END:VCALENDAR
