BEGIN:VCALENDAR
VERSION:2.0
PRODID:-//Sabre//Sabre VObject 4.5.8//EN
CALSCALE:GREGORIAN
BEGIN:VEVENT
UID:criticalmass-one-st-gallen-1727454600
DTSTAMP:20260422T105429Z
SUMMARY:Critical Mass St. Gallen 27.09.2024
DTSTART;TZID=Europe/Berlin:20240927T183000
DTEND;TZID=Europe/Berlin:20240927T203000
LOCATION:Gallusplatz
GEO:47.422455;9.375844
URL;VALUE=URI:https://criticalmass.in/st-gallen/2024-09-27
END:VEVENT
END:VCALENDAR
