BEGIN:VCALENDAR
VERSION:2.0
PRODID:-//Sabre//Sabre VObject 4.5.8//EN
CALSCALE:GREGORIAN
BEGIN:VEVENT
UID:criticalmass-one-st-gallen-1690561800
DTSTAMP:20260424T012759Z
SUMMARY:Critical Mass St. Gallen 28.07.2023
DTSTART;TZID=Europe/Berlin:20230728T183000
DTEND;TZID=Europe/Berlin:20230728T203000
LOCATION:Gallusplatz
GEO:47.422455;9.375844
URL;VALUE=URI:https://criticalmass.in/st-gallen/2023-07-28
END:VEVENT
END:VCALENDAR
