BEGIN:VCALENDAR
VERSION:2.0
PRODID:-//Sabre//Sabre VObject 4.5.8//EN
CALSCALE:GREGORIAN
BEGIN:VEVENT
UID:criticalmass-one-st-gallen-1685118600
DTSTAMP:20260422T105451Z
SUMMARY:Critical Mass St. Gallen 26.05.2023
DTSTART;TZID=Europe/Berlin:20230526T183000
DTEND;TZID=Europe/Berlin:20230526T203000
LOCATION:Gallusplatz
GEO:47.422455;9.375844
URL;VALUE=URI:https://criticalmass.in/st-gallen/2023-05-26
END:VEVENT
END:VCALENDAR
