BEGIN:VCALENDAR
VERSION:2.0
PRODID:-//Sabre//Sabre VObject 4.5.8//EN
CALSCALE:GREGORIAN
BEGIN:VEVENT
UID:criticalmass-one-st-gallen-1598632200
DTSTAMP:20260423T112957Z
SUMMARY:Critical Mass St. Gallen 28.08.2020
DTSTART;TZID=Europe/Berlin:20200828T183000
DTEND;TZID=Europe/Berlin:20200828T203000
LOCATION:Gallusplatz
GEO:47.422455;9.375844
URL;VALUE=URI:https://criticalmass.in/st-gallen/2020-08-28
END:VEVENT
END:VCALENDAR
