BEGIN:VCALENDAR
VERSION:2.0
PRODID:-//Sabre//Sabre VObject 4.5.8//EN
CALSCALE:GREGORIAN
BEGIN:VEVENT
UID:criticalmass-one-soest-1695474000
DTSTAMP:20260424T113641Z
SUMMARY:Kidical Mass Soest 23.09.2023
DTSTART;TZID=Europe/Berlin:20230923T150000
DTEND;TZID=Europe/Berlin:20230923T170000
LOCATION:Bahnhofsvorplatz
GEO:51.578168;8.101541
URL;VALUE=URI:https://criticalmass.in/soest/kidical-mass-soest-september-20
 23
END:VEVENT
END:VCALENDAR
