BEGIN:VCALENDAR
VERSION:2.0
PRODID:-//Sabre//Sabre VObject 4.5.8//EN
CALSCALE:GREGORIAN
BEGIN:VEVENT
UID:criticalmass-one-soest-1600603200
DTSTAMP:20260424T094546Z
SUMMARY:Kidical Mass Soest
DESCRIPTION:Vom Bahnhofsvorplatz zum Osthofentor über die Osthofen-\, Ulri
 cherstr. durch die Innenstadt bis zum WisbyRing mit Halt am weißen Rad zu
 m Gedenken eines getöteten Schülers und im Bogen zum Endpunkt Rosengärt
 en geht die einstündige Route. Nach Ansicht von ADFC und VCD sind auch in
  Soest die Bedingungen für Radfahrende\, insbesondere für Kinder und Jug
 endliche nicht sicher und attraktiv genug\, Gefahrenstellen werden sichtba
 r. Die Kreispolizei sichert die Demo ab.
DTSTART;TZID=Europe/Berlin:20200920T140000
DTEND;TZID=Europe/Berlin:20200920T160000
LOCATION:Bahnhofsvorplatz
GEO:51.619972;8.102662
URL;VALUE=URI:https://criticalmass.in/soest/kidical-mass-soest-september-20
 20
END:VEVENT
END:VCALENDAR
