BEGIN:VCALENDAR
VERSION:2.0
PRODID:-//Sabre//Sabre VObject 4.5.8//EN
CALSCALE:GREGORIAN
BEGIN:VEVENT
UID:criticalmass-one-siegen-1685633400
DTSTAMP:20260425T162533Z
SUMMARY:Critical Mass Siegen 01.06.2023
DTSTART;TZID=Europe/Berlin:20230601T173000
DTEND;TZID=Europe/Berlin:20230601T193000
LOCATION:Kölner Tor
GEO:50.874225;8.020699
URL;VALUE=URI:https://criticalmass.in/siegen/2023-06-01
END:VEVENT
END:VCALENDAR
