BEGIN:VCALENDAR
VERSION:2.0
PRODID:-//Sabre//Sabre VObject 4.5.8//EN
CALSCALE:GREGORIAN
BEGIN:VEVENT
UID:criticalmass-one-siegen-1683214200
DTSTAMP:20260425T220938Z
SUMMARY:Critical Mass Siegen 04.05.2023
DTSTART;TZID=Europe/Berlin:20230504T173000
DTEND;TZID=Europe/Berlin:20230504T193000
LOCATION:Kölner Tor
GEO:50.874225;8.020699
URL;VALUE=URI:https://criticalmass.in/siegen/2023-05-04
END:VEVENT
END:VCALENDAR
