BEGIN:VCALENDAR
VERSION:2.0
PRODID:-//Sabre//Sabre VObject 4.5.8//EN
CALSCALE:GREGORIAN
BEGIN:VEVENT
UID:criticalmass-one-siegen-1643905800
DTSTAMP:20260425T162718Z
SUMMARY:Critical Mass Siegen 03.02.2022
DTSTART;TZID=Europe/Berlin:20220203T173000
DTEND;TZID=Europe/Berlin:20220203T193000
LOCATION:Kölner Tor
GEO:50.874225;8.020699
URL;VALUE=URI:https://criticalmass.in/siegen/2022-02-03
END:VEVENT
END:VCALENDAR
