BEGIN:VCALENDAR
VERSION:2.0
PRODID:-//Sabre//Sabre VObject 4.5.8//EN
CALSCALE:GREGORIAN
BEGIN:VEVENT
UID:criticalmass-one-siegen-1622734200
DTSTAMP:20260425T202634Z
SUMMARY:Critical Mass Siegen 03.06.2021
DTSTART;TZID=Europe/Berlin:20210603T173000
DTEND;TZID=Europe/Berlin:20210603T193000
LOCATION:Kölner Tor
GEO:50.874225;8.020699
URL;VALUE=URI:https://criticalmass.in/siegen/2021-06-03
END:VEVENT
END:VCALENDAR
