BEGIN:VCALENDAR
VERSION:2.0
PRODID:-//Sabre//Sabre VObject 4.5.8//EN
CALSCALE:GREGORIAN
BEGIN:VEVENT
UID:criticalmass-one-siegen-1585841400
DTSTAMP:20260425T175435Z
SUMMARY:Critical Mass Siegen 02.04.2020
DTSTART;TZID=Europe/Berlin:20200402T173000
DTEND;TZID=Europe/Berlin:20200402T193000
LOCATION:Kölner Tor
GEO:50.874225;8.020699
URL;VALUE=URI:https://criticalmass.in/siegen/2020-04-02
END:VEVENT
END:VCALENDAR
