BEGIN:VCALENDAR
VERSION:2.0
PRODID:-//Sabre//Sabre VObject 4.5.8//EN
CALSCALE:GREGORIAN
BEGIN:VEVENT
UID:criticalmass-one-siegen-1567697400
DTSTAMP:20260425T155406Z
SUMMARY:Critical Mass Siegen 05.09.2019
DTSTART;TZID=Europe/Berlin:20190905T173000
DTEND;TZID=Europe/Berlin:20190905T193000
LOCATION:Kölner Tor
GEO:50.874225;8.020699
URL;VALUE=URI:https://criticalmass.in/siegen/2019-09-05
END:VEVENT
END:VCALENDAR
