BEGIN:VCALENDAR
VERSION:2.0
PRODID:-//Sabre//Sabre VObject 4.5.8//EN
CALSCALE:GREGORIAN
BEGIN:VEVENT
UID:criticalmass-one-siegen-1544113800
DTSTAMP:20260425T145159Z
SUMMARY:Critical Mass Siegen 06.12.2018
DTSTART;TZID=Europe/Berlin:20181206T173000
DTEND;TZID=Europe/Berlin:20181206T193000
LOCATION:Kölner Tor
GEO:50.874225;8.020699
URL;VALUE=URI:https://criticalmass.in/siegen/2018-12-06
END:VEVENT
END:VCALENDAR
