BEGIN:VCALENDAR
VERSION:2.0
PRODID:-//Sabre//Sabre VObject 4.5.8//EN
CALSCALE:GREGORIAN
BEGIN:VEVENT
UID:criticalmass-one-siegen-1407425400
DTSTAMP:20260425T233040Z
SUMMARY:Critical Mass Siegen 07.08.2014
DTSTART;TZID=Europe/Berlin:20140807T173000
DTEND;TZID=Europe/Berlin:20140807T193000
LOCATION:Kölner Tor
GEO:50.874225;8.020699
URL;VALUE=URI:https://criticalmass.in/siegen/2014-08-07
END:VEVENT
END:VCALENDAR
